BEGIN:VCALENDAR
VERSION:2.0
PRODID:-//ChamberMaster//Event Calendar 2.0//EN
METHOD:PUBLISH
X-PUBLISHED-TTL:P1H
REFRESH-INTERVAL:P1H
CALSCALE:GREGORIAN
BEGIN:VTIMEZONE
TZID:America/New_York
BEGIN:DAYLIGHT
RRULE:FREQ=YEARLY;BYMONTH=3;BYDAY=2SU
DTSTART:20070101T000000
TZOFFSETFROM:-0500
TZOFFSETTO:-0400
TZNAME:Eastern Daylight Time
END:DAYLIGHT
BEGIN:STANDARD
RRULE:FREQ=YEARLY;BYMONTH=11;BYDAY=1SU
DTSTART:20070101T000000
TZOFFSETFROM:-0400
TZOFFSETTO:-0500
TZNAME:Eastern Standard Time
END:STANDARD
END:VTIMEZONE
BEGIN:VEVENT
DTSTART;TZID=America/New_York:20210812T120000
DTEND;TZID=America/New_York:20210812T130000
X-MICROSOFT-CDO-ALLDAYEVENT:FALSE
SUMMARY:Review Choice Demonstration: Important Home Health Update
DESCRIPTION:Full implementation of the Home Health Review Choice Demonstration (RCD) will begin effective September 1\, 2021\, for home health providers in North Carolina and Florida. There are some significant components to full implementation that home health agencies who have not been fully participating need to be aware of. Please join us as Melinda A. Gaboury\, COS-C\, Chief Executive Officer\, Healthcare Provider Solutions\, Inc. expands on the information released by Palmetto GBA last week and offers practical\, "real-world" discussion as well as examples and recommendations on what you need to do now to get ready for September 1\, 2021 and beyond.
X-ALT-DESC;FMTTYPE=text/html:<!DOCTYPE html><html><head><title></title></head><body aria-disabled="false"><p>Full implementation of the Home Health Review Choice Demonstration (RCD) will begin effective September 1\, 2021\, for home health providers in North Carolina and Florida. There are some significant components to full implementation that home health agencies who have not been fully participating need to be aware of. Please join us as Melinda A. Gaboury\, COS-C\, Chief Executive Officer\, Healthcare Provider Solutions\, Inc. expands on the information released by Palmetto GBA last week and offers practical\, &quot\;real-world&quot\; discussion as well as examples and recommendations on what you need to do now to get ready for September 1\, 2021 and beyond.&nbsp\;</p></body></html>
LOCATION:
UID:e.2076.393671
SEQUENCE:3
DTSTAMP:20260421T160855Z
URL:https://members.homecarefla.org/events/Details/review-choice-demonstration-important-home-health-update-392354?sourceTypeId=Hub
END:VEVENT
END:VCALENDAR
